BEGIN:VCALENDAR
VERSION:2.0
PRODID:-//Club Maitland City - ECPv6.15.15//NONSGML v1.0//EN
CALSCALE:GREGORIAN
METHOD:PUBLISH
X-ORIGINAL-URL:https://www.maitlandcity.com.au
X-WR-CALDESC:Events for Club Maitland City
REFRESH-INTERVAL;VALUE=DURATION:PT1H
X-Robots-Tag:noindex
X-PUBLISHED-TTL:PT1H
BEGIN:VTIMEZONE
TZID:Australia/Melbourne
BEGIN:STANDARD
TZOFFSETFROM:+1100
TZOFFSETTO:+1000
TZNAME:AEST
DTSTART:20240406T160000
END:STANDARD
BEGIN:DAYLIGHT
TZOFFSETFROM:+1000
TZOFFSETTO:+1100
TZNAME:AEDT
DTSTART:20241005T160000
END:DAYLIGHT
BEGIN:STANDARD
TZOFFSETFROM:+1100
TZOFFSETTO:+1000
TZNAME:AEST
DTSTART:20250405T160000
END:STANDARD
BEGIN:DAYLIGHT
TZOFFSETFROM:+1000
TZOFFSETTO:+1100
TZNAME:AEDT
DTSTART:20251004T160000
END:DAYLIGHT
BEGIN:STANDARD
TZOFFSETFROM:+1100
TZOFFSETTO:+1000
TZNAME:AEST
DTSTART:20260404T160000
END:STANDARD
BEGIN:DAYLIGHT
TZOFFSETFROM:+1000
TZOFFSETTO:+1100
TZNAME:AEDT
DTSTART:20261003T160000
END:DAYLIGHT
BEGIN:STANDARD
TZOFFSETFROM:+1100
TZOFFSETTO:+1000
TZNAME:AEST
DTSTART:20270403T160000
END:STANDARD
BEGIN:DAYLIGHT
TZOFFSETFROM:+1000
TZOFFSETTO:+1100
TZNAME:AEDT
DTSTART:20271002T160000
END:DAYLIGHT
END:VTIMEZONE
BEGIN:VEVENT
DTSTART;TZID=Australia/Melbourne:20251029T184500
DTEND;TZID=Australia/Melbourne:20260426T164500
DTSTAMP:20260422T233711
CREATED:20250901T064838Z
LAST-MODIFIED:20260422T084927Z
UID:10009695-1761763500-1777221900@www.maitlandcity.com.au
SUMMARY:Poker
DESCRIPTION:Kings Poker every Wednesday Night 6:45pm \n$1500 Guaranteed |$30 to play\, 2x reloads\, 15min levels\, 50k stack\, late registration 9:15pm \nFor more info head to Kings Poker 
URL:https://www.maitlandcity.com.au/event/poker-2/2025-10-29/
CATEGORIES:Promotions,Weekly Events
ATTACH;FMTTYPE=image/png:https://www.maitlandcity.com.au/wp-content/uploads/2025/09/Screenshot-2026-01-07-at-4.20.50-PM.png
END:VEVENT
BEGIN:VEVENT
DTSTART;VALUE=DATE:20260115
DTEND;VALUE=DATE:20261231
DTSTAMP:20260422T233711
CREATED:20250520T030847Z
LAST-MODIFIED:20260422T090610Z
UID:10002449-1768435200-1798675199@www.maitlandcity.com.au
SUMMARY:All UFC Live & Loud
DESCRIPTION:Every major event watch it Live & Loud On The Big Screen in CMC Sports & Social
URL:https://www.maitlandcity.com.au/event/all-ufc-live-loud/2026-01-15/
CATEGORIES:Weekly Events
ATTACH;FMTTYPE=image/jpeg:https://www.maitlandcity.com.au/wp-content/uploads/2025/05/CMC_UFC_sq.jpg
END:VEVENT
BEGIN:VEVENT
DTSTART;VALUE=DATE:20260422
DTEND;VALUE=DATE:20260423
DTSTAMP:20260422T233711
CREATED:20260115T034215Z
LAST-MODIFIED:20260204T215408Z
UID:10012541-1776816000-1776902399@www.maitlandcity.com.au
SUMMARY:Win with Keno Every Month!
DESCRIPTION:Win with Keno\nEvery month you could win up to $500 worth of vouchers when you play Keno at Club Maitland City! Simply spend $10 or more on Keno and you will receive an entry into our monthly draw. \nDraw will be the last Wednesday of every month. There will be a variety of vouchers up for grabs form Wish Cards\, Bunnings Vouchers\, Eftpos Cards etc. \nT&Cs Apply
URL:https://www.maitlandcity.com.au/event/win-with-keno-every-month/2026-04-22/
ATTACH;FMTTYPE=image/jpeg:https://www.maitlandcity.com.au/wp-content/uploads/2026/01/CMC_Keno-Promo_sq.jpg
END:VEVENT
BEGIN:VEVENT
DTSTART;TZID=Australia/Melbourne:20260423T090000
DTEND;TZID=Australia/Melbourne:20260423T140000
DTSTAMP:20260422T233711
CREATED:20260119T042912Z
LAST-MODIFIED:20260422T084409Z
UID:10012969-1776934800-1776952800@www.maitlandcity.com.au
SUMMARY:Big Win Bingo
DESCRIPTION:Join us for CMC Foundation’s BIG WIN BINGO! Play on PET or Paper. Get here early if you want a PET as they go fast. \n15x $50 Voucher Games | 15x Cash Games |4x $1000 Jackpots \nPLUS a chance to score the CMC Rewards Major Jackpot of $5000. \nEyes down 7pm | Selling from 5pm \n 
URL:https://www.maitlandcity.com.au/event/big-win-bingo/
CATEGORIES:Special Events
ATTACH;FMTTYPE=image/jpeg:https://www.maitlandcity.com.au/wp-content/uploads/2026/01/10022026051043-CMC_BigWinBingo_Mar26Full_sq.jpg
END:VEVENT
BEGIN:VEVENT
DTSTART;TZID=Australia/Melbourne:20260423T110000
DTEND;TZID=Australia/Melbourne:20260423T110000
DTSTAMP:20260422T233711
CREATED:20250520T024340Z
LAST-MODIFIED:20260422T091449Z
UID:10001077-1776942000-1776942000@www.maitlandcity.com.au
SUMMARY:CMC Foundation Cash Housie
DESCRIPTION:We currently run 6 sessions per week. Every Tuesday to Friday. PETs (electronic tablets) available for all sessions as well as paper books. \nCheap Tuesday & Tight Thursday 11AM | From $12 to play\n10 x $40 Vouchers games + 5 line games\n10 x Cash games\n3x Jackpot Games \nPlus a chance to win our CMC Rewards Major & Mini prizes and a chance to find the Golden Call where you can win up to $5300! \nPrize money subject to ticket sales \nWednesday 11AM & 7pm\, Thursday 7pm & Friday 11am | From $16 to play\n15 x $50 Vouchers games\n15 x Cash games\n3x Jackpot Games \nPrize money subject to ticket sales \n \nAll proceeds go towards supporting CMC Foundation and their continued support of local charities. \nCMC Foundation Website
URL:https://www.maitlandcity.com.au/event/cash-housie/2026-04-23/
CATEGORIES:Promotions,Weekly Events
ATTACH;FMTTYPE=image/jpeg:https://www.maitlandcity.com.au/wp-content/uploads/2025/05/CMC_Housie_SQ.jpg
END:VEVENT
BEGIN:VEVENT
DTSTART;TZID=Australia/Melbourne:20260423T113000
DTEND;TZID=Australia/Melbourne:20260423T143000
DTSTAMP:20260422T233711
CREATED:20250520T032217Z
LAST-MODIFIED:20260422T092313Z
UID:10006346-1776943800-1776954600@www.maitlandcity.com.au
SUMMARY:$16 Lunches
DESCRIPTION:Enjoy lunch for less. Members pay just $16 from our lunch menu. Non Members pay $18. \nAvailable Monday-Friday from 11:30am in The Quarry Restaurant \nSee Menu
URL:https://www.maitlandcity.com.au/event/16-lunches/2026-04-23/
CATEGORIES:Weekly Events
ATTACH;FMTTYPE=image/jpeg:https://www.maitlandcity.com.au/wp-content/uploads/2025/05/09122025220558-CMC_16lunches_sq.jpg
END:VEVENT
BEGIN:VEVENT
DTSTART;TZID=Australia/Melbourne:20260423T150000
DTEND;TZID=Australia/Melbourne:20260423T170000
DTSTAMP:20260422T233711
CREATED:20260303T044650Z
LAST-MODIFIED:20260422T092716Z
UID:10002788-1776956400-1776963600@www.maitlandcity.com.au
SUMMARY:Members Happy Hour
DESCRIPTION:7 days a week | 3pm to 5pm \n$5.50 schooners for Premium Members |$5.80 for Social Members \n*House schooners only \nNot a member? Sign up today here. 
URL:https://www.maitlandcity.com.au/event/members-happy-hour-2/2026-04-23/
CATEGORIES:Weekly Events
ATTACH;FMTTYPE=image/jpeg:https://www.maitlandcity.com.au/wp-content/uploads/2025/05/11022026004603-CMC_HappyHour2026__1080x1080.jpg
END:VEVENT
BEGIN:VEVENT
DTSTART;TZID=Australia/Melbourne:20260423T180000
DTEND;TZID=Australia/Melbourne:20260423T210000
DTSTAMP:20260422T233711
CREATED:20260204T220201Z
LAST-MODIFIED:20260422T092835Z
UID:10013374-1776967200-1776978000@www.maitlandcity.com.au
SUMMARY:$20 Rump Night
DESCRIPTION:Make Thursdays something to look forward to with our unbeatable $20 Rump Night at The Quarry. \nEnjoy a perfectly cooked\, juicy rump steak served with crispy chips\, fresh salad and your choice of sauce all for incredible value. Whether you’re catching up with friends\, grabbing a midweek dinner\, or just craving a great steak without the price tag\, this is your go-to night. \nAvailable every Thursday for Members $20 | Non-members $26 \nAdd mash & veg for $3. Not available for take-away
URL:https://www.maitlandcity.com.au/event/20-rump-night/2026-04-23/
CATEGORIES:Weekly Events
ATTACH;FMTTYPE=image/jpeg:https://www.maitlandcity.com.au/wp-content/uploads/2026/02/CMC_20__rump_night__1080_x_1080.jpg
END:VEVENT
BEGIN:VEVENT
DTSTART;TZID=Australia/Melbourne:20260423T184500
DTEND;TZID=Australia/Melbourne:20260423T184500
DTSTAMP:20260422T233711
CREATED:20250520T031626Z
LAST-MODIFIED:20260422T093441Z
UID:10004847-1776969900-1776969900@www.maitlandcity.com.au
SUMMARY:Joker Draw
DESCRIPTION:Earn entries with every $5 spent on food and drinks between 5-6:45pm. Must present card at time of sale for your ticket. \nStarts at $1000 and jackpots every week the joker isn’t found $100. Miss the Joker? Never mind score City Cash to spend in the club \nThursday 6:45pm | Members Only  \n 
URL:https://www.maitlandcity.com.au/event/joker-draw/2026-04-23/
CATEGORIES:Promotions,Weekly Events
ATTACH;FMTTYPE=image/jpeg:https://www.maitlandcity.com.au/wp-content/uploads/2025/05/Joker-Draw-Square.jpg
END:VEVENT
BEGIN:VEVENT
DTSTART;TZID=Australia/Melbourne:20260424T173000
DTEND;TZID=Australia/Melbourne:20260424T183000
DTSTAMP:20260422T233711
CREATED:20250520T030406Z
LAST-MODIFIED:20260114T222435Z
UID:10002023-1777051800-1777055400@www.maitlandcity.com.au
SUMMARY:Meat Raffles
DESCRIPTION:Fill Your Fridge Meat Raffle\nSunday & Friday \n$200 trays\, $100 trays and butcher vouchers to Hoff’s Quality Meats. \nOn sale 5:30pm | Drawn 6:30pm
URL:https://www.maitlandcity.com.au/event/meat-raffles/2026-04-24/
CATEGORIES:Promotions,Weekly Events
ATTACH;FMTTYPE=image/jpeg:https://www.maitlandcity.com.au/wp-content/uploads/2025/05/CMC_fill-your-fridge-meat-raffle_sq_no-new.jpg
END:VEVENT
BEGIN:VEVENT
DTSTART;TZID=Australia/Melbourne:20260424T180000
DTEND;TZID=Australia/Melbourne:20260424T190000
DTSTAMP:20260422T233711
CREATED:20250520T031447Z
LAST-MODIFIED:20260422T095511Z
UID:10004373-1777053600-1777057200@www.maitlandcity.com.au
SUMMARY:Cocktail Happy Hour
DESCRIPTION:Join us for the happiest of hours! Cocktail Happy Hour \n$30 Tap Cocktail Jugs & cocktails from $12 \nFriday & Saturday | 6-7pm
URL:https://www.maitlandcity.com.au/event/cocktail-happy-hour/2026-04-24/
CATEGORIES:Promotions,Weekly Events
ATTACH;FMTTYPE=image/jpeg:https://www.maitlandcity.com.au/wp-content/uploads/2025/05/DSC05723-1024x683-1.jpg
END:VEVENT
BEGIN:VEVENT
DTSTART;TZID=Australia/Melbourne:20260424T183000
DTEND;TZID=Australia/Melbourne:20260424T203000
DTSTAMP:20260422T233711
CREATED:20250520T031948Z
LAST-MODIFIED:20260114T222435Z
UID:10005466-1777055400-1777062600@www.maitlandcity.com.au
SUMMARY:Members Badge Draws
DESCRIPTION:6:30 & 8:30pm \nWednesday\, Friday & Sunday
URL:https://www.maitlandcity.com.au/event/members-badge-draws/2026-04-24/
CATEGORIES:Promotions,Weekly Events
ATTACH;FMTTYPE=image/jpeg:https://www.maitlandcity.com.au/wp-content/uploads/2025/05/CMC_Members_badge_draw_sq.jpg
END:VEVENT
BEGIN:VEVENT
DTSTART;TZID=Australia/Melbourne:20260424T193000
DTEND;TZID=Australia/Melbourne:20260424T193000
DTSTAMP:20260422T233711
CREATED:20250520T031801Z
LAST-MODIFIED:20260114T222435Z
UID:10005108-1777059000-1777059000@www.maitlandcity.com.au
SUMMARY:Live Music
DESCRIPTION:Every Friday from 7:30pm
URL:https://www.maitlandcity.com.au/event/live-music/2026-04-24/
CATEGORIES:Promotions,Weekly Events
ATTACH;FMTTYPE=image/jpeg:https://www.maitlandcity.com.au/wp-content/uploads/2025/05/coutesy-bus-1.jpg
END:VEVENT
BEGIN:VEVENT
DTSTART;TZID=Australia/Melbourne:20260426T173000
DTEND;TZID=Australia/Melbourne:20260426T210000
DTSTAMP:20260422T233711
CREATED:20250520T032349Z
LAST-MODIFIED:20260114T222435Z
UID:10007505-1777224600-1777237200@www.maitlandcity.com.au
SUMMARY:Kids Eat Free
DESCRIPTION:Sunday & Monday Nights
URL:https://www.maitlandcity.com.au/event/kids-eat-free/2026-04-26/
CATEGORIES:Promotions,Weekly Events
ATTACH;FMTTYPE=image/jpeg:https://www.maitlandcity.com.au/wp-content/uploads/2025/05/Kids-Eat-Free-Instagram-Post.jpg
END:VEVENT
BEGIN:VEVENT
DTSTART;TZID=Australia/Melbourne:20260428T183000
DTEND;TZID=Australia/Melbourne:20260428T183000
DTSTAMP:20260422T233711
CREATED:20250520T023632Z
LAST-MODIFIED:20260306T070015Z
UID:10000671-1777401000-1777401000@www.maitlandcity.com.au
SUMMARY:Trivia Tuesdays
DESCRIPTION:Join us every Tuesday from 6:30pm for a fun-filled night of trivia! \nIt’s free to play and there’s $250 in prizes up for grabs each week. \nBring your friends\, test your knowledge\, and enjoy a great night out — you might just walk away a winner! \nHosted by QuizMasters
URL:https://www.maitlandcity.com.au/event/trivia-tuesdays/2026-04-28/
CATEGORIES:Promotions,Weekly Events
ATTACH;FMTTYPE=image/jpeg:https://www.maitlandcity.com.au/wp-content/uploads/2025/05/05032026035214-CMC_trivianight__1080x1080.jpg
END:VEVENT
BEGIN:VEVENT
DTSTART;TZID=Australia/Melbourne:20260505T110000
DTEND;TZID=Australia/Melbourne:20260505T140000
DTSTAMP:20260422T233711
CREATED:20260408T061029Z
LAST-MODIFIED:20260408T064235Z
UID:10018495-1777978800-1777989600@www.maitlandcity.com.au
SUMMARY:Cabaret Concert
DESCRIPTION:Join Lisa Crouch & The Funky Do Da’s on the first Tuesday of the month for a Cabaret Concert. \nEach month features a special new guest. \nTickets are just $33 which includes a two course lunch\, one drink and the show. Tickets can be purchase at reception or through sticky tickets. \n  \nSearch for Club Maitland City on Sticky Tickets to find each months event. \n 
URL:https://www.maitlandcity.com.au/event/cabaret-concert/2026-05-05/
CATEGORIES:Weekly Events
ATTACH;FMTTYPE=image/jpeg:https://www.maitlandcity.com.au/wp-content/uploads/2026/04/Lisa-crouch-and-the-Funky-Do-Das--scaled.jpeg
END:VEVENT
BEGIN:VEVENT
DTSTART;TZID=Australia/Melbourne:20260510T110000
DTEND;TZID=Australia/Melbourne:20260510T160000
DTSTAMP:20260422T233711
CREATED:20260407T050432Z
LAST-MODIFIED:20260422T082507Z
UID:10014452-1778410800-1778428800@www.maitlandcity.com.au
SUMMARY:Mother's Day Lunch
DESCRIPTION:Treat Mum to something truly special this Mother’s Day with a beautiful lunch at The Quarry. \nSit back\, relax\, and enjoy quality time together while we take care of the rest. \n✨ Two sittings available:🕚 11:00am – 1:00pm🕜 1:30pm – 3:30pm \n🍽️ Chef’s Selection BonusOrder any Chef’s Selection on the day and you’ll go in the draw to win a $500 Eftpos gift card to spend on mum (or yourself). Members only promotion.
URL:https://www.maitlandcity.com.au/event/mothersday/
CATEGORIES:Special Events
ATTACH;FMTTYPE=image/png:https://www.maitlandcity.com.au/wp-content/uploads/2026/04/Botanical-Mothers-Day-Facebook-Post.png
END:VEVENT
BEGIN:VEVENT
DTSTART;TZID=Australia/Melbourne:20260626T190000
DTEND;TZID=Australia/Melbourne:20260626T213000
DTSTAMP:20260422T233711
CREATED:20260422T002245Z
LAST-MODIFIED:20260422T090100Z
UID:10018670-1782500400-1782509400@www.maitlandcity.com.au
SUMMARY:SKULL! An evening with Kerry O'Keeffe
DESCRIPTION:Cricket fans! Join us for a night of laughs with Australia’s favourite cricket commentator ‘Skull’\, the great Kerry O’Keeffe! \nTickets – https://skull-maitland.eventbrite.com.au \nFRI JUNE 26 | DOORS 7PM |MEET & GREET 7.30PM | SHOW 8PM  \nThe most entertaining man in Australian cricket is coming to Maitland! \nThis is your chance to enjoy his laugh out loud collection of cricketing anecdotes LIVE! The event will include an audience meet & greet\, photo opportunity\, live show\, interactive audience Q&A\, raffle & auctions with limited edition sports memorabilia available. \nTicket holders can purchase a show + photo ticket for an opportunity to meet Skull pre-show and receive a photo snapped by our professional photographer and a selfie on their personal device! \nThis event is open to guests of all ages\, however will contain mature themes\, parental discretion is advised as a result. Tickets are strictly limited\, don’t delay as this will sell out! \nJunior Tickets (16 and under) \nShow Entry – $29  | Show & Photo – $69 \nAdult Tickets (17 and over) \nShow Entry – $49 | Show & Photo – $99 \nVIP Package Silver – $299 \nIncludes show entry\, preferential seating in the front three rows\, meet and greet + photo and a mini cricket bat signed by Kerry O’Keeffe. \nVIP Package Gold – $349 \nIncludes show entry\, preferential seating in the front three rows\, meet and greet + photo and a cricket ball in a perspex display case signed by Kerry O’Keeffe.
URL:https://www.maitlandcity.com.au/event/skull/
CATEGORIES:Special Events
ATTACH;FMTTYPE=image/png:https://www.maitlandcity.com.au/wp-content/uploads/2026/04/Skull-Maitland-Web.png
END:VEVENT
END:VCALENDAR