BEGIN:VCALENDAR
VERSION:2.0
PRODID:-//Club Maitland City - ECPv6.15.15//NONSGML v1.0//EN
CALSCALE:GREGORIAN
METHOD:PUBLISH
X-WR-CALNAME:Club Maitland City
X-ORIGINAL-URL:https://www.maitlandcity.com.au
X-WR-CALDESC:Events for Club Maitland City
REFRESH-INTERVAL;VALUE=DURATION:PT1H
X-Robots-Tag:noindex
X-PUBLISHED-TTL:PT1H
BEGIN:VTIMEZONE
TZID:Australia/Melbourne
BEGIN:STANDARD
TZOFFSETFROM:+1100
TZOFFSETTO:+1000
TZNAME:AEST
DTSTART:20240406T160000
END:STANDARD
BEGIN:DAYLIGHT
TZOFFSETFROM:+1000
TZOFFSETTO:+1100
TZNAME:AEDT
DTSTART:20241005T160000
END:DAYLIGHT
BEGIN:STANDARD
TZOFFSETFROM:+1100
TZOFFSETTO:+1000
TZNAME:AEST
DTSTART:20250405T160000
END:STANDARD
BEGIN:DAYLIGHT
TZOFFSETFROM:+1000
TZOFFSETTO:+1100
TZNAME:AEDT
DTSTART:20251004T160000
END:DAYLIGHT
BEGIN:STANDARD
TZOFFSETFROM:+1100
TZOFFSETTO:+1000
TZNAME:AEST
DTSTART:20260404T160000
END:STANDARD
BEGIN:DAYLIGHT
TZOFFSETFROM:+1000
TZOFFSETTO:+1100
TZNAME:AEDT
DTSTART:20261003T160000
END:DAYLIGHT
BEGIN:STANDARD
TZOFFSETFROM:+1100
TZOFFSETTO:+1000
TZNAME:AEST
DTSTART:20270403T160000
END:STANDARD
BEGIN:DAYLIGHT
TZOFFSETFROM:+1000
TZOFFSETTO:+1100
TZNAME:AEDT
DTSTART:20271002T160000
END:DAYLIGHT
END:VTIMEZONE
BEGIN:VEVENT
DTSTART;TZID=Australia/Melbourne:20260331T190000
DTEND;TZID=Australia/Melbourne:20260331T210000
DTSTAMP:20260424T190553
CREATED:20260204T215330Z
LAST-MODIFIED:20260204T215330Z
UID:10012992-1774983600-1774990800@www.maitlandcity.com.au
SUMMARY:Big Easter Hop & Win Raffle
DESCRIPTION:
URL:https://www.maitlandcity.com.au/event/big-easter-hop-win-raffle/2026-03-31/
CATEGORIES:Special Events
ATTACH;FMTTYPE=image/jpeg:https://www.maitlandcity.com.au/wp-content/uploads/2026/02/CMC_big_easter_hop_and_win__1080_x_1080.jpg
END:VEVENT
BEGIN:VEVENT
DTSTART;TZID=Australia/Melbourne:20260329T173000
DTEND;TZID=Australia/Melbourne:20260329T183000
DTSTAMP:20260424T190553
CREATED:20260204T215632Z
LAST-MODIFIED:20260204T215632Z
UID:10012995-1774805400-1774809000@www.maitlandcity.com.au
SUMMARY:In-House Easter Raffle
DESCRIPTION:
URL:https://www.maitlandcity.com.au/event/in-house-easter-raffle/2026-03-29/
CATEGORIES:Special Events
ATTACH;FMTTYPE=image/jpeg:https://www.maitlandcity.com.au/wp-content/uploads/2026/02/CMC_easter_hin-house_raffle__1080_x_1080.jpg
END:VEVENT
BEGIN:VEVENT
DTSTART;TZID=Australia/Melbourne:20251022T184500
DTEND;TZID=Australia/Melbourne:20260419T164500
DTSTAMP:20260424T190553
CREATED:20250901T064838Z
LAST-MODIFIED:20260422T084927Z
UID:10009694-1761158700-1776617100@www.maitlandcity.com.au
SUMMARY:Poker
DESCRIPTION:Kings Poker every Wednesday Night 6:45pm \n$1500 Guaranteed |$30 to play\, 2x reloads\, 15min levels\, 50k stack\, late registration 9:15pm \nFor more info head to Kings Poker 
URL:https://www.maitlandcity.com.au/event/poker-2/2025-10-22/
CATEGORIES:Promotions,Weekly Events
ATTACH;FMTTYPE=image/png:https://www.maitlandcity.com.au/wp-content/uploads/2025/09/Screenshot-2026-01-07-at-4.20.50-PM.png
END:VEVENT
END:VCALENDAR