BEGIN:VCALENDAR
VERSION:2.0
PRODID:-//Club Maitland City - ECPv6.15.15//NONSGML v1.0//EN
CALSCALE:GREGORIAN
METHOD:PUBLISH
X-WR-CALNAME:Club Maitland City
X-ORIGINAL-URL:https://www.maitlandcity.com.au
X-WR-CALDESC:Events for Club Maitland City
REFRESH-INTERVAL;VALUE=DURATION:PT1H
X-Robots-Tag:noindex
X-PUBLISHED-TTL:PT1H
BEGIN:VTIMEZONE
TZID:Australia/Melbourne
BEGIN:STANDARD
TZOFFSETFROM:+1100
TZOFFSETTO:+1000
TZNAME:AEST
DTSTART:20250405T160000
END:STANDARD
BEGIN:DAYLIGHT
TZOFFSETFROM:+1000
TZOFFSETTO:+1100
TZNAME:AEDT
DTSTART:20251004T160000
END:DAYLIGHT
BEGIN:STANDARD
TZOFFSETFROM:+1100
TZOFFSETTO:+1000
TZNAME:AEST
DTSTART:20260404T160000
END:STANDARD
BEGIN:DAYLIGHT
TZOFFSETFROM:+1000
TZOFFSETTO:+1100
TZNAME:AEDT
DTSTART:20261003T160000
END:DAYLIGHT
BEGIN:STANDARD
TZOFFSETFROM:+1100
TZOFFSETTO:+1000
TZNAME:AEST
DTSTART:20270403T160000
END:STANDARD
BEGIN:DAYLIGHT
TZOFFSETFROM:+1000
TZOFFSETTO:+1100
TZNAME:AEDT
DTSTART:20271002T160000
END:DAYLIGHT
END:VTIMEZONE
BEGIN:VEVENT
DTSTART;TZID=Australia/Melbourne:20260426T173000
DTEND;TZID=Australia/Melbourne:20260426T210000
DTSTAMP:20260422T222319
CREATED:20250520T032349Z
LAST-MODIFIED:20260114T222435Z
UID:10007505-1777224600-1777237200@www.maitlandcity.com.au
SUMMARY:Kids Eat Free
DESCRIPTION:Sunday & Monday Nights
URL:https://www.maitlandcity.com.au/event/kids-eat-free/2026-04-26/
CATEGORIES:Promotions,Weekly Events
ATTACH;FMTTYPE=image/jpeg:https://www.maitlandcity.com.au/wp-content/uploads/2025/05/Kids-Eat-Free-Instagram-Post.jpg
END:VEVENT
BEGIN:VEVENT
DTSTART;TZID=Australia/Melbourne:20260427T173000
DTEND;TZID=Australia/Melbourne:20260427T210000
DTSTAMP:20260422T222319
CREATED:20250520T032349Z
LAST-MODIFIED:20260114T222435Z
UID:10007506-1777311000-1777323600@www.maitlandcity.com.au
SUMMARY:Kids Eat Free
DESCRIPTION:Sunday & Monday Nights
URL:https://www.maitlandcity.com.au/event/kids-eat-free/2026-04-27/
CATEGORIES:Promotions,Weekly Events
ATTACH;FMTTYPE=image/jpeg:https://www.maitlandcity.com.au/wp-content/uploads/2025/05/Kids-Eat-Free-Instagram-Post.jpg
END:VEVENT
BEGIN:VEVENT
DTSTART;TZID=Australia/Melbourne:20260503T173000
DTEND;TZID=Australia/Melbourne:20260503T210000
DTSTAMP:20260422T222319
CREATED:20250520T032349Z
LAST-MODIFIED:20260114T222435Z
UID:10007507-1777829400-1777842000@www.maitlandcity.com.au
SUMMARY:Kids Eat Free
DESCRIPTION:Sunday & Monday Nights
URL:https://www.maitlandcity.com.au/event/kids-eat-free/2026-05-03/
CATEGORIES:Promotions,Weekly Events
ATTACH;FMTTYPE=image/jpeg:https://www.maitlandcity.com.au/wp-content/uploads/2025/05/Kids-Eat-Free-Instagram-Post.jpg
END:VEVENT
BEGIN:VEVENT
DTSTART;TZID=Australia/Melbourne:20260504T173000
DTEND;TZID=Australia/Melbourne:20260504T210000
DTSTAMP:20260422T222319
CREATED:20250520T032349Z
LAST-MODIFIED:20260114T222435Z
UID:10007508-1777915800-1777928400@www.maitlandcity.com.au
SUMMARY:Kids Eat Free
DESCRIPTION:Sunday & Monday Nights
URL:https://www.maitlandcity.com.au/event/kids-eat-free/2026-05-04/
CATEGORIES:Promotions,Weekly Events
ATTACH;FMTTYPE=image/jpeg:https://www.maitlandcity.com.au/wp-content/uploads/2025/05/Kids-Eat-Free-Instagram-Post.jpg
END:VEVENT
BEGIN:VEVENT
DTSTART;TZID=Australia/Melbourne:20260510T173000
DTEND;TZID=Australia/Melbourne:20260510T210000
DTSTAMP:20260422T222319
CREATED:20250520T032349Z
LAST-MODIFIED:20260114T222435Z
UID:10007509-1778434200-1778446800@www.maitlandcity.com.au
SUMMARY:Kids Eat Free
DESCRIPTION:Sunday & Monday Nights
URL:https://www.maitlandcity.com.au/event/kids-eat-free/2026-05-10/
CATEGORIES:Promotions,Weekly Events
ATTACH;FMTTYPE=image/jpeg:https://www.maitlandcity.com.au/wp-content/uploads/2025/05/Kids-Eat-Free-Instagram-Post.jpg
END:VEVENT
BEGIN:VEVENT
DTSTART;TZID=Australia/Melbourne:20260511T173000
DTEND;TZID=Australia/Melbourne:20260511T210000
DTSTAMP:20260422T222319
CREATED:20250520T032349Z
LAST-MODIFIED:20260114T222435Z
UID:10007510-1778520600-1778533200@www.maitlandcity.com.au
SUMMARY:Kids Eat Free
DESCRIPTION:Sunday & Monday Nights
URL:https://www.maitlandcity.com.au/event/kids-eat-free/2026-05-11/
CATEGORIES:Promotions,Weekly Events
ATTACH;FMTTYPE=image/jpeg:https://www.maitlandcity.com.au/wp-content/uploads/2025/05/Kids-Eat-Free-Instagram-Post.jpg
END:VEVENT
BEGIN:VEVENT
DTSTART;TZID=Australia/Melbourne:20260517T173000
DTEND;TZID=Australia/Melbourne:20260517T210000
DTSTAMP:20260422T222319
CREATED:20250520T032349Z
LAST-MODIFIED:20260114T222435Z
UID:10007511-1779039000-1779051600@www.maitlandcity.com.au
SUMMARY:Kids Eat Free
DESCRIPTION:Sunday & Monday Nights
URL:https://www.maitlandcity.com.au/event/kids-eat-free/2026-05-17/
CATEGORIES:Promotions,Weekly Events
ATTACH;FMTTYPE=image/jpeg:https://www.maitlandcity.com.au/wp-content/uploads/2025/05/Kids-Eat-Free-Instagram-Post.jpg
END:VEVENT
BEGIN:VEVENT
DTSTART;TZID=Australia/Melbourne:20260518T173000
DTEND;TZID=Australia/Melbourne:20260518T210000
DTSTAMP:20260422T222319
CREATED:20250520T032349Z
LAST-MODIFIED:20260114T222435Z
UID:10007512-1779125400-1779138000@www.maitlandcity.com.au
SUMMARY:Kids Eat Free
DESCRIPTION:Sunday & Monday Nights
URL:https://www.maitlandcity.com.au/event/kids-eat-free/2026-05-18/
CATEGORIES:Promotions,Weekly Events
ATTACH;FMTTYPE=image/jpeg:https://www.maitlandcity.com.au/wp-content/uploads/2025/05/Kids-Eat-Free-Instagram-Post.jpg
END:VEVENT
BEGIN:VEVENT
DTSTART;TZID=Australia/Melbourne:20260524T173000
DTEND;TZID=Australia/Melbourne:20260524T210000
DTSTAMP:20260422T222319
CREATED:20250520T032349Z
LAST-MODIFIED:20260114T222435Z
UID:10007513-1779643800-1779656400@www.maitlandcity.com.au
SUMMARY:Kids Eat Free
DESCRIPTION:Sunday & Monday Nights
URL:https://www.maitlandcity.com.au/event/kids-eat-free/2026-05-24/
CATEGORIES:Promotions,Weekly Events
ATTACH;FMTTYPE=image/jpeg:https://www.maitlandcity.com.au/wp-content/uploads/2025/05/Kids-Eat-Free-Instagram-Post.jpg
END:VEVENT
BEGIN:VEVENT
DTSTART;TZID=Australia/Melbourne:20260525T173000
DTEND;TZID=Australia/Melbourne:20260525T210000
DTSTAMP:20260422T222319
CREATED:20250520T032349Z
LAST-MODIFIED:20260114T222435Z
UID:10007514-1779730200-1779742800@www.maitlandcity.com.au
SUMMARY:Kids Eat Free
DESCRIPTION:Sunday & Monday Nights
URL:https://www.maitlandcity.com.au/event/kids-eat-free/2026-05-25/
CATEGORIES:Promotions,Weekly Events
ATTACH;FMTTYPE=image/jpeg:https://www.maitlandcity.com.au/wp-content/uploads/2025/05/Kids-Eat-Free-Instagram-Post.jpg
END:VEVENT
BEGIN:VEVENT
DTSTART;TZID=Australia/Melbourne:20260531T173000
DTEND;TZID=Australia/Melbourne:20260531T210000
DTSTAMP:20260422T222319
CREATED:20250520T032349Z
LAST-MODIFIED:20260114T222435Z
UID:10007515-1780248600-1780261200@www.maitlandcity.com.au
SUMMARY:Kids Eat Free
DESCRIPTION:Sunday & Monday Nights
URL:https://www.maitlandcity.com.au/event/kids-eat-free/2026-05-31/
CATEGORIES:Promotions,Weekly Events
ATTACH;FMTTYPE=image/jpeg:https://www.maitlandcity.com.au/wp-content/uploads/2025/05/Kids-Eat-Free-Instagram-Post.jpg
END:VEVENT
BEGIN:VEVENT
DTSTART;TZID=Australia/Melbourne:20260601T173000
DTEND;TZID=Australia/Melbourne:20260601T210000
DTSTAMP:20260422T222319
CREATED:20250520T032349Z
LAST-MODIFIED:20260114T222435Z
UID:10007516-1780335000-1780347600@www.maitlandcity.com.au
SUMMARY:Kids Eat Free
DESCRIPTION:Sunday & Monday Nights
URL:https://www.maitlandcity.com.au/event/kids-eat-free/2026-06-01/
CATEGORIES:Promotions,Weekly Events
ATTACH;FMTTYPE=image/jpeg:https://www.maitlandcity.com.au/wp-content/uploads/2025/05/Kids-Eat-Free-Instagram-Post.jpg
END:VEVENT
BEGIN:VEVENT
DTSTART;TZID=Australia/Melbourne:20260607T173000
DTEND;TZID=Australia/Melbourne:20260607T210000
DTSTAMP:20260422T222319
CREATED:20250520T032349Z
LAST-MODIFIED:20260114T222435Z
UID:10007517-1780853400-1780866000@www.maitlandcity.com.au
SUMMARY:Kids Eat Free
DESCRIPTION:Sunday & Monday Nights
URL:https://www.maitlandcity.com.au/event/kids-eat-free/2026-06-07/
CATEGORIES:Promotions,Weekly Events
ATTACH;FMTTYPE=image/jpeg:https://www.maitlandcity.com.au/wp-content/uploads/2025/05/Kids-Eat-Free-Instagram-Post.jpg
END:VEVENT
BEGIN:VEVENT
DTSTART;TZID=Australia/Melbourne:20260608T173000
DTEND;TZID=Australia/Melbourne:20260608T210000
DTSTAMP:20260422T222319
CREATED:20250520T032349Z
LAST-MODIFIED:20260114T222435Z
UID:10007518-1780939800-1780952400@www.maitlandcity.com.au
SUMMARY:Kids Eat Free
DESCRIPTION:Sunday & Monday Nights
URL:https://www.maitlandcity.com.au/event/kids-eat-free/2026-06-08/
CATEGORIES:Promotions,Weekly Events
ATTACH;FMTTYPE=image/jpeg:https://www.maitlandcity.com.au/wp-content/uploads/2025/05/Kids-Eat-Free-Instagram-Post.jpg
END:VEVENT
BEGIN:VEVENT
DTSTART;TZID=Australia/Melbourne:20260614T173000
DTEND;TZID=Australia/Melbourne:20260614T210000
DTSTAMP:20260422T222319
CREATED:20250520T032349Z
LAST-MODIFIED:20260114T222435Z
UID:10007519-1781458200-1781470800@www.maitlandcity.com.au
SUMMARY:Kids Eat Free
DESCRIPTION:Sunday & Monday Nights
URL:https://www.maitlandcity.com.au/event/kids-eat-free/2026-06-14/
CATEGORIES:Promotions,Weekly Events
ATTACH;FMTTYPE=image/jpeg:https://www.maitlandcity.com.au/wp-content/uploads/2025/05/Kids-Eat-Free-Instagram-Post.jpg
END:VEVENT
BEGIN:VEVENT
DTSTART;TZID=Australia/Melbourne:20260615T173000
DTEND;TZID=Australia/Melbourne:20260615T210000
DTSTAMP:20260422T222319
CREATED:20250520T032349Z
LAST-MODIFIED:20260114T222435Z
UID:10007520-1781544600-1781557200@www.maitlandcity.com.au
SUMMARY:Kids Eat Free
DESCRIPTION:Sunday & Monday Nights
URL:https://www.maitlandcity.com.au/event/kids-eat-free/2026-06-15/
CATEGORIES:Promotions,Weekly Events
ATTACH;FMTTYPE=image/jpeg:https://www.maitlandcity.com.au/wp-content/uploads/2025/05/Kids-Eat-Free-Instagram-Post.jpg
END:VEVENT
BEGIN:VEVENT
DTSTART;TZID=Australia/Melbourne:20260621T173000
DTEND;TZID=Australia/Melbourne:20260621T210000
DTSTAMP:20260422T222319
CREATED:20250520T032349Z
LAST-MODIFIED:20260114T222435Z
UID:10007521-1782063000-1782075600@www.maitlandcity.com.au
SUMMARY:Kids Eat Free
DESCRIPTION:Sunday & Monday Nights
URL:https://www.maitlandcity.com.au/event/kids-eat-free/2026-06-21/
CATEGORIES:Promotions,Weekly Events
ATTACH;FMTTYPE=image/jpeg:https://www.maitlandcity.com.au/wp-content/uploads/2025/05/Kids-Eat-Free-Instagram-Post.jpg
END:VEVENT
BEGIN:VEVENT
DTSTART;TZID=Australia/Melbourne:20260622T173000
DTEND;TZID=Australia/Melbourne:20260622T210000
DTSTAMP:20260422T222319
CREATED:20250520T032349Z
LAST-MODIFIED:20260114T222435Z
UID:10007522-1782149400-1782162000@www.maitlandcity.com.au
SUMMARY:Kids Eat Free
DESCRIPTION:Sunday & Monday Nights
URL:https://www.maitlandcity.com.au/event/kids-eat-free/2026-06-22/
CATEGORIES:Promotions,Weekly Events
ATTACH;FMTTYPE=image/jpeg:https://www.maitlandcity.com.au/wp-content/uploads/2025/05/Kids-Eat-Free-Instagram-Post.jpg
END:VEVENT
BEGIN:VEVENT
DTSTART;TZID=Australia/Melbourne:20260628T173000
DTEND;TZID=Australia/Melbourne:20260628T210000
DTSTAMP:20260422T222319
CREATED:20250520T032349Z
LAST-MODIFIED:20260114T222435Z
UID:10007523-1782667800-1782680400@www.maitlandcity.com.au
SUMMARY:Kids Eat Free
DESCRIPTION:Sunday & Monday Nights
URL:https://www.maitlandcity.com.au/event/kids-eat-free/2026-06-28/
CATEGORIES:Promotions,Weekly Events
ATTACH;FMTTYPE=image/jpeg:https://www.maitlandcity.com.au/wp-content/uploads/2025/05/Kids-Eat-Free-Instagram-Post.jpg
END:VEVENT
BEGIN:VEVENT
DTSTART;TZID=Australia/Melbourne:20260629T173000
DTEND;TZID=Australia/Melbourne:20260629T210000
DTSTAMP:20260422T222319
CREATED:20250520T032349Z
LAST-MODIFIED:20260114T222435Z
UID:10007524-1782754200-1782766800@www.maitlandcity.com.au
SUMMARY:Kids Eat Free
DESCRIPTION:Sunday & Monday Nights
URL:https://www.maitlandcity.com.au/event/kids-eat-free/2026-06-29/
CATEGORIES:Promotions,Weekly Events
ATTACH;FMTTYPE=image/jpeg:https://www.maitlandcity.com.au/wp-content/uploads/2025/05/Kids-Eat-Free-Instagram-Post.jpg
END:VEVENT
BEGIN:VEVENT
DTSTART;TZID=Australia/Melbourne:20260705T173000
DTEND;TZID=Australia/Melbourne:20260705T210000
DTSTAMP:20260422T222319
CREATED:20250520T032349Z
LAST-MODIFIED:20260114T222435Z
UID:10007525-1783272600-1783285200@www.maitlandcity.com.au
SUMMARY:Kids Eat Free
DESCRIPTION:Sunday & Monday Nights
URL:https://www.maitlandcity.com.au/event/kids-eat-free/2026-07-05/
CATEGORIES:Promotions,Weekly Events
ATTACH;FMTTYPE=image/jpeg:https://www.maitlandcity.com.au/wp-content/uploads/2025/05/Kids-Eat-Free-Instagram-Post.jpg
END:VEVENT
BEGIN:VEVENT
DTSTART;TZID=Australia/Melbourne:20260706T173000
DTEND;TZID=Australia/Melbourne:20260706T210000
DTSTAMP:20260422T222319
CREATED:20250520T032349Z
LAST-MODIFIED:20260114T222435Z
UID:10007526-1783359000-1783371600@www.maitlandcity.com.au
SUMMARY:Kids Eat Free
DESCRIPTION:Sunday & Monday Nights
URL:https://www.maitlandcity.com.au/event/kids-eat-free/2026-07-06/
CATEGORIES:Promotions,Weekly Events
ATTACH;FMTTYPE=image/jpeg:https://www.maitlandcity.com.au/wp-content/uploads/2025/05/Kids-Eat-Free-Instagram-Post.jpg
END:VEVENT
BEGIN:VEVENT
DTSTART;TZID=Australia/Melbourne:20260712T173000
DTEND;TZID=Australia/Melbourne:20260712T210000
DTSTAMP:20260422T222319
CREATED:20250520T032349Z
LAST-MODIFIED:20260114T222435Z
UID:10007527-1783877400-1783890000@www.maitlandcity.com.au
SUMMARY:Kids Eat Free
DESCRIPTION:Sunday & Monday Nights
URL:https://www.maitlandcity.com.au/event/kids-eat-free/2026-07-12/
CATEGORIES:Promotions,Weekly Events
ATTACH;FMTTYPE=image/jpeg:https://www.maitlandcity.com.au/wp-content/uploads/2025/05/Kids-Eat-Free-Instagram-Post.jpg
END:VEVENT
BEGIN:VEVENT
DTSTART;TZID=Australia/Melbourne:20260713T173000
DTEND;TZID=Australia/Melbourne:20260713T210000
DTSTAMP:20260422T222319
CREATED:20250520T032349Z
LAST-MODIFIED:20260114T222435Z
UID:10007528-1783963800-1783976400@www.maitlandcity.com.au
SUMMARY:Kids Eat Free
DESCRIPTION:Sunday & Monday Nights
URL:https://www.maitlandcity.com.au/event/kids-eat-free/2026-07-13/
CATEGORIES:Promotions,Weekly Events
ATTACH;FMTTYPE=image/jpeg:https://www.maitlandcity.com.au/wp-content/uploads/2025/05/Kids-Eat-Free-Instagram-Post.jpg
END:VEVENT
BEGIN:VEVENT
DTSTART;TZID=Australia/Melbourne:20260719T173000
DTEND;TZID=Australia/Melbourne:20260719T210000
DTSTAMP:20260422T222319
CREATED:20250520T032349Z
LAST-MODIFIED:20260114T222435Z
UID:10007529-1784482200-1784494800@www.maitlandcity.com.au
SUMMARY:Kids Eat Free
DESCRIPTION:Sunday & Monday Nights
URL:https://www.maitlandcity.com.au/event/kids-eat-free/2026-07-19/
CATEGORIES:Promotions,Weekly Events
ATTACH;FMTTYPE=image/jpeg:https://www.maitlandcity.com.au/wp-content/uploads/2025/05/Kids-Eat-Free-Instagram-Post.jpg
END:VEVENT
BEGIN:VEVENT
DTSTART;TZID=Australia/Melbourne:20260720T173000
DTEND;TZID=Australia/Melbourne:20260720T210000
DTSTAMP:20260422T222319
CREATED:20250520T032349Z
LAST-MODIFIED:20260114T222435Z
UID:10007530-1784568600-1784581200@www.maitlandcity.com.au
SUMMARY:Kids Eat Free
DESCRIPTION:Sunday & Monday Nights
URL:https://www.maitlandcity.com.au/event/kids-eat-free/2026-07-20/
CATEGORIES:Promotions,Weekly Events
ATTACH;FMTTYPE=image/jpeg:https://www.maitlandcity.com.au/wp-content/uploads/2025/05/Kids-Eat-Free-Instagram-Post.jpg
END:VEVENT
BEGIN:VEVENT
DTSTART;TZID=Australia/Melbourne:20260726T173000
DTEND;TZID=Australia/Melbourne:20260726T210000
DTSTAMP:20260422T222319
CREATED:20250520T032349Z
LAST-MODIFIED:20260114T222435Z
UID:10007531-1785087000-1785099600@www.maitlandcity.com.au
SUMMARY:Kids Eat Free
DESCRIPTION:Sunday & Monday Nights
URL:https://www.maitlandcity.com.au/event/kids-eat-free/2026-07-26/
CATEGORIES:Promotions,Weekly Events
ATTACH;FMTTYPE=image/jpeg:https://www.maitlandcity.com.au/wp-content/uploads/2025/05/Kids-Eat-Free-Instagram-Post.jpg
END:VEVENT
BEGIN:VEVENT
DTSTART;TZID=Australia/Melbourne:20260727T173000
DTEND;TZID=Australia/Melbourne:20260727T210000
DTSTAMP:20260422T222319
CREATED:20250520T032349Z
LAST-MODIFIED:20260114T222435Z
UID:10007532-1785173400-1785186000@www.maitlandcity.com.au
SUMMARY:Kids Eat Free
DESCRIPTION:Sunday & Monday Nights
URL:https://www.maitlandcity.com.au/event/kids-eat-free/2026-07-27/
CATEGORIES:Promotions,Weekly Events
ATTACH;FMTTYPE=image/jpeg:https://www.maitlandcity.com.au/wp-content/uploads/2025/05/Kids-Eat-Free-Instagram-Post.jpg
END:VEVENT
BEGIN:VEVENT
DTSTART;TZID=Australia/Melbourne:20260802T173000
DTEND;TZID=Australia/Melbourne:20260802T210000
DTSTAMP:20260422T222319
CREATED:20250520T032349Z
LAST-MODIFIED:20260114T222435Z
UID:10007533-1785691800-1785704400@www.maitlandcity.com.au
SUMMARY:Kids Eat Free
DESCRIPTION:Sunday & Monday Nights
URL:https://www.maitlandcity.com.au/event/kids-eat-free/2026-08-02/
CATEGORIES:Promotions,Weekly Events
ATTACH;FMTTYPE=image/jpeg:https://www.maitlandcity.com.au/wp-content/uploads/2025/05/Kids-Eat-Free-Instagram-Post.jpg
END:VEVENT
BEGIN:VEVENT
DTSTART;TZID=Australia/Melbourne:20260803T173000
DTEND;TZID=Australia/Melbourne:20260803T210000
DTSTAMP:20260422T222319
CREATED:20250520T032349Z
LAST-MODIFIED:20260114T222435Z
UID:10007534-1785778200-1785790800@www.maitlandcity.com.au
SUMMARY:Kids Eat Free
DESCRIPTION:Sunday & Monday Nights
URL:https://www.maitlandcity.com.au/event/kids-eat-free/2026-08-03/
CATEGORIES:Promotions,Weekly Events
ATTACH;FMTTYPE=image/jpeg:https://www.maitlandcity.com.au/wp-content/uploads/2025/05/Kids-Eat-Free-Instagram-Post.jpg
END:VEVENT
END:VCALENDAR